BEGIN:VCALENDAR
VERSION:2.0
PRODID:-//Aisha Fatima Community - ECPv6.15.15//NONSGML v1.0//EN
CALSCALE:GREGORIAN
METHOD:PUBLISH
X-WR-CALNAME:Aisha Fatima Community
X-ORIGINAL-URL:https://aishafatimacommunity.org
X-WR-CALDESC:Events for Aisha Fatima Community
REFRESH-INTERVAL;VALUE=DURATION:PT1H
X-Robots-Tag:noindex
X-PUBLISHED-TTL:PT1H
BEGIN:VTIMEZONE
TZID:America/Chicago
BEGIN:DAYLIGHT
TZOFFSETFROM:-0600
TZOFFSETTO:-0500
TZNAME:CDT
DTSTART:20250309T080000
END:DAYLIGHT
BEGIN:STANDARD
TZOFFSETFROM:-0500
TZOFFSETTO:-0600
TZNAME:CST
DTSTART:20251102T070000
END:STANDARD
BEGIN:DAYLIGHT
TZOFFSETFROM:-0600
TZOFFSETTO:-0500
TZNAME:CDT
DTSTART:20260308T080000
END:DAYLIGHT
BEGIN:STANDARD
TZOFFSETFROM:-0500
TZOFFSETTO:-0600
TZNAME:CST
DTSTART:20261101T070000
END:STANDARD
BEGIN:DAYLIGHT
TZOFFSETFROM:-0600
TZOFFSETTO:-0500
TZNAME:CDT
DTSTART:20270314T080000
END:DAYLIGHT
BEGIN:STANDARD
TZOFFSETFROM:-0500
TZOFFSETTO:-0600
TZNAME:CST
DTSTART:20271107T070000
END:STANDARD
END:VTIMEZONE
BEGIN:VEVENT
DTSTART;TZID=America/Chicago:20260207T143000
DTEND;TZID=America/Chicago:20260516T153000
DTSTAMP:20260422T045555
CREATED:20260204T232430Z
LAST-MODIFIED:20260410T065847Z
UID:1890-1770474600-1778945400@aishafatimacommunity.org
SUMMARY:Tafseer Juz Amma (30th)
DESCRIPTION:Join us for an in-depth Tafseer (exegesis) of Juz ‘Amma\, the 30th and final Juz of the Quran. Led by Aalimah Romessa Mirza\, offers women aged 17 and above a unique opportunity to explore the profound meanings and lessons within the short yet powerful surahs that make up this Juz. The Tafseer sessions will focus on understanding the themes\, context\, and practical applications of these surahs in our daily lives. \nLearn more about Aalimah Romessa Mirza here. \nDetails: \nDays & Time: Saturdays\, 2:30 PM – 3:30 PM \nFormat: In-Person Only (No recordings available) \nAudience: Women 17+ \nCome and deepen your connection with the Quran in a supportive and engaging environment. No prior knowledge is necessary\, and all levels are welcome.
URL:https://aishafatimacommunity.org/ec-event/tafseer-juz-amma-30th-5/
LOCATION:Aisha Fatima Community\, 330 E Roosevelt Rd STE 100\, Lombard\, IL\, 60148\, United States
CATEGORIES:All,Faith
ATTACH;FMTTYPE=image/png:https://aishafatimacommunity.org/wp-content/uploads/2025/12/January-26-Events-Calendar-4.png
END:VEVENT
BEGIN:VEVENT
DTSTART;TZID=America/Chicago:20260426T120000
DTEND;TZID=America/Chicago:20260426T140000
DTSTAMP:20260422T045555
CREATED:20260401T192837Z
LAST-MODIFIED:20260401T192837Z
UID:1973-1777204800-1777212000@aishafatimacommunity.org
SUMMARY:The Six Lifestyle Factors: A Path to Balance and Radiance for the Whole Woman
DESCRIPTION:This educational session offers an introduction to the Six Lifestyle Factors of Unani Tibb\, a holistic health framework that emphasizes balance\, prevention\, and self-awareness. The session invites women to explore how their everyday habits\, rhythms\, and environments influence balance\, particularly in relation to women’s physical\, emotional\, and hormonal health. \nThe session is structured as a Lifestyle Balance 101\, guiding participants through each of the six factors with space for journaling\, self-reflection\, and personal insight. Women will develop a clearer relationship with their own bodies and daily patterns\, and have awareness as a foundation for long-term wellbeing. \n\n\n\nShabana Shah\, founder of Radiance Within Wellness\, is a certified herbalist and naturopathic practitioner focused on women’s health. \nLearn more about Shabana Shah and Radiance Within Wellness here. \n\n\n\nAll tickets are non-refundable and non-transferable. \nFinancial assistance is available. Please email info@aishafatimacommunity.org at least 2 days before the start date.
URL:https://aishafatimacommunity.org/ec-event/the-six-lifestyle-factors-a-path-to-balance-and-radiance-for-the-whole-woman/
LOCATION:Aisha Fatima Community\, 330 E Roosevelt Rd STE 100\, Lombard\, IL\, 60148\, United States
CATEGORIES:Wellness
ATTACH;FMTTYPE=image/png:https://aishafatimacommunity.org/wp-content/uploads/2026/04/FINAL-3.png
END:VEVENT
BEGIN:VEVENT
DTSTART;TZID=America/Chicago:20260428T183000
DTEND;TZID=America/Chicago:20260602T200000
DTSTAMP:20260422T045555
CREATED:20260410T065722Z
LAST-MODIFIED:20260410T065722Z
UID:1980-1777401000-1780430400@aishafatimacommunity.org
SUMMARY:Crochet Class with Maryam Chida
DESCRIPTION:Join us for an introductory course with Maryam Chida to learn the basics of crochet while becoming familiar with the tools and techniques! Students will be working on small projects in class to practice techniques learned in each session. \nIf you have never picked up a crochet hook but are interested in learning\, this is the class for you! \nDetails: \n\n\nSchedule: Tuesdays\, 6:30 PM – 8:00 PM \n\n\nDuration: 6 weeks (April 28th – June 2nd) \n\n\nFormat: In-Person Only \n\n\nAll supplies will be included \n\n\nLearn about Maryam Chida:\nMaryam Chida started crocheting in 2022 during a busy summer and is now an avid crocheter. She is passionate about crafting as a form of self care and a way to slow down in the middle of a busy world. She works in the children’s department and makerspace at Elmhurst Public Library. \n\nPlease register on time as late registration is allowed up to one week after the class\, with a $15 late fee. \nFinancial assistance is available. Please email info@aishafatimacommunity.org at least 2 days before the class start date.
URL:https://aishafatimacommunity.org/ec-event/crochet-class-with-maryam-chida/
LOCATION:Aisha Fatima Community\, 330 E Roosevelt Rd STE 100\, Lombard\, IL\, 60148\, United States
CATEGORIES:All,Social
ATTACH;FMTTYPE=image/png:https://aishafatimacommunity.org/wp-content/uploads/2026/04/whatsapp.png
END:VEVENT
END:VCALENDAR