BEGIN:VCALENDAR
VERSION:2.0
PRODID:-//Aisha Fatima Community - ECPv6.15.15//NONSGML v1.0//EN
CALSCALE:GREGORIAN
METHOD:PUBLISH
X-WR-CALNAME:Aisha Fatima Community
X-ORIGINAL-URL:https://aishafatimacommunity.org
X-WR-CALDESC:Events for Aisha Fatima Community
REFRESH-INTERVAL;VALUE=DURATION:PT1H
X-Robots-Tag:noindex
X-PUBLISHED-TTL:PT1H
BEGIN:VTIMEZONE
TZID:America/Chicago
BEGIN:DAYLIGHT
TZOFFSETFROM:-0600
TZOFFSETTO:-0500
TZNAME:CDT
DTSTART:20250309T080000
END:DAYLIGHT
BEGIN:STANDARD
TZOFFSETFROM:-0500
TZOFFSETTO:-0600
TZNAME:CST
DTSTART:20251102T070000
END:STANDARD
BEGIN:DAYLIGHT
TZOFFSETFROM:-0600
TZOFFSETTO:-0500
TZNAME:CDT
DTSTART:20260308T080000
END:DAYLIGHT
BEGIN:STANDARD
TZOFFSETFROM:-0500
TZOFFSETTO:-0600
TZNAME:CST
DTSTART:20261101T070000
END:STANDARD
BEGIN:DAYLIGHT
TZOFFSETFROM:-0600
TZOFFSETTO:-0500
TZNAME:CDT
DTSTART:20270314T080000
END:DAYLIGHT
BEGIN:STANDARD
TZOFFSETFROM:-0500
TZOFFSETTO:-0600
TZNAME:CST
DTSTART:20271107T070000
END:STANDARD
END:VTIMEZONE
BEGIN:VEVENT
DTSTART;TZID=America/Chicago:20260207T143000
DTEND;TZID=America/Chicago:20260516T153000
DTSTAMP:20260422T063539
CREATED:20260204T232430Z
LAST-MODIFIED:20260410T065847Z
UID:1890-1770474600-1778945400@aishafatimacommunity.org
SUMMARY:Tafseer Juz Amma (30th)
DESCRIPTION:Join us for an in-depth Tafseer (exegesis) of Juz ‘Amma\, the 30th and final Juz of the Quran. Led by Aalimah Romessa Mirza\, offers women aged 17 and above a unique opportunity to explore the profound meanings and lessons within the short yet powerful surahs that make up this Juz. The Tafseer sessions will focus on understanding the themes\, context\, and practical applications of these surahs in our daily lives. \nLearn more about Aalimah Romessa Mirza here. \nDetails: \nDays & Time: Saturdays\, 2:30 PM – 3:30 PM \nFormat: In-Person Only (No recordings available) \nAudience: Women 17+ \nCome and deepen your connection with the Quran in a supportive and engaging environment. No prior knowledge is necessary\, and all levels are welcome.
URL:https://aishafatimacommunity.org/ec-event/tafseer-juz-amma-30th-5/
LOCATION:Aisha Fatima Community\, 330 E Roosevelt Rd STE 100\, Lombard\, IL\, 60148\, United States
CATEGORIES:All,Faith
ATTACH;FMTTYPE=image/png:https://aishafatimacommunity.org/wp-content/uploads/2025/12/January-26-Events-Calendar-4.png
END:VEVENT
END:VCALENDAR